BEGIN:VCALENDAR
VERSION:2.0
PRODID:-//Unite for Education - ECPv6.15.20//NONSGML v1.0//EN
CALSCALE:GREGORIAN
METHOD:PUBLISH
X-WR-CALNAME:Unite for Education
X-ORIGINAL-URL:https://uniteforeducation.uk
X-WR-CALDESC:Events for Unite for Education
REFRESH-INTERVAL;VALUE=DURATION:PT1H
X-Robots-Tag:noindex
X-PUBLISHED-TTL:PT1H
BEGIN:VTIMEZONE
TZID:UTC
BEGIN:STANDARD
TZOFFSETFROM:+0000
TZOFFSETTO:+0000
TZNAME:UTC
DTSTART:20250101T000000
END:STANDARD
END:VTIMEZONE
BEGIN:VEVENT
DTSTART;TZID=UTC:20260430T200000
DTEND;TZID=UTC:20260430T210000
DTSTAMP:20260424T152934
CREATED:20260414T172239Z
LAST-MODIFIED:20260414T172239Z
UID:26164-1777579200-1777582800@uniteforeducation.uk
SUMMARY:Education Prayer Meeting
DESCRIPTION:A special evening to pray for Scotand’s education system\, hear updates & prayer needs\, stand together for truth and freedom. \nThis is an online meeting – sign up today and we’ll send you the link to join.
URL:https://uniteforeducation.uk/event/education-prayer-meeting-2/
LOCATION:Online
CATEGORIES:Prayer Meeting
ATTACH;FMTTYPE=image/jpeg:https://uniteforeducation.uk/sit3/wp-content/uploads/2026/04/April-Prayer-Meeting-Unite-for-Education-2-1.jpg
END:VEVENT
BEGIN:VEVENT
DTSTART;TZID=UTC:20260526T183000
DTEND;TZID=UTC:20260526T200000
DTSTAMP:20260424T152934
CREATED:20260414T172916Z
LAST-MODIFIED:20260414T172916Z
UID:26168-1779820200-1779825600@uniteforeducation.uk
SUMMARY:Education Information Evening - Inverclyde
DESCRIPTION:
URL:https://uniteforeducation.uk/event/education-information-evening-inverclyde/
LOCATION:Hope Community Church\, 44 Kelly Street\, Greenock\, Inverclyde\, PA16 8TR\, United Kingdom
ATTACH;FMTTYPE=image/jpeg:https://uniteforeducation.uk/sit3/wp-content/uploads/2026/04/View_of_Greenock_from_Auchmountain_Road_Inverclyde_Scotland_DSCF9281-1.jpg
ORGANIZER;CN="Unite for Education":MAILTO:info@uniteforeducation.uk
END:VEVENT
END:VCALENDAR